BEGIN:VCALENDAR
VERSION:2.0
PRODID:-//http://www.poussan-autrement.com///NONSGML kigkonsult.se iCalcreator 2.10.15//
METHOD:PUBLISH
BEGIN:VEVENT
UID:20260420T105822CEST-5813UIuWMk@http://www.poussan-autrement.com/
DTSTAMP:20260420T085822Z
DESCRIPTION:AU CHATEAU DE LA PEYRADE\nD’avril à novembre\, les balades gour
 mandes vous conduisent sur les petits chemins\, au pied du massif de la Ga
 rdiole\, à la découverte d’un terroir d’exception et vous ouvrent les port
 es des domaines de l’appellation pour partager le savoir-faire des vignero
 ns et déguster les fameux muscats de Frontignan.\nRéservation obligatoire 
 à l'office de tourisme&nbsp\;: 33 (0)4 67 18 31 60 Lieu de rendez-vous ind
 iqué lors de la réservation.\n\n&nbsp\; http://www.poussan-autrement.com/i
 ndex.php/categories/evenement/88-balades-gourmandes-muscat-et-produits-du-
 terroir
DTSTART;VALUE=DATE:20140711
LOCATION:Frontignan (34110 Frontignan\, France)
SUMMARY:BALADES GOURMANDES - MUSCAT ET PRODUITS DU TERROIR
URL:http://www.poussan-autrement.com/index.php/categories/evenement/88-bala
 des-gourmandes-muscat-et-produits-du-terroir
END:VEVENT
END:VCALENDAR
