BEGIN:VCALENDAR
VERSION:2.0
PRODID:-//http://www.poussan-autrement.com///NONSGML kigkonsult.se iCalcreator 2.10.15//
METHOD:PUBLISH
BEGIN:VEVENT
UID:20260420T105827CEST-5881rja9bU@http://www.poussan-autrement.com/
DTSTAMP:20260420T085827Z
DESCRIPTION:AU VIGNE FERRIERES\nD’avril à novembre\, les balades gourmandes
  vous conduisent sur les petits chemins\, au pied du massif de la Gardiole
 \, à la découverte d’un terroir d’exception et vous ouvrent les portes des
  domaines de l’appellation pour partager le savoir-faire des vignerons et 
 déguster les fameux muscats de Frontignan.\nRéservation obligatoire à l'of
 fice de tourisme&nbsp\;: 33 (0)4 67 18 31 60 Lieu de rendez-vous indiqué l
 ors de la réservation.\n\n&nbsp\; http://www.poussan-autrement.com/index.p
 hp/categories/evenement/87-balades-gourmandes-muscat-et-produits-du-terroi
 r
DTSTART;VALUE=DATE:20140704
LOCATION:Frontignan (34110 Frontignan\, France)
SUMMARY:BALADES GOURMANDES - MUSCAT ET PRODUITS DU TERROIR
URL:http://www.poussan-autrement.com/index.php/categories/evenement/87-bala
 des-gourmandes-muscat-et-produits-du-terroir
END:VEVENT
END:VCALENDAR
