BEGIN:VCALENDAR
VERSION:2.0
PRODID:-//http://www.poussan-autrement.com///NONSGML kigkonsult.se iCalcreator 2.10.15//
METHOD:PUBLISH
BEGIN:VEVENT
UID:20260420T105252CEST-0121K7zta3@http://www.poussan-autrement.com/
DTSTAMP:20260420T085252Z
DESCRIPTION:vendredi 20 juin à 19h00 à la salle du conseil municipal\n&nbsp
 \;\n&nbsp\;\nORDRE DU JOUR\n........\n&nbsp\;\n&nbsp\;\n'Tous ceux qui ont
  cru en nous\, lors de ces municipales\, peuvent toujours nous faire confi
 ance. Restons des acteurs soucieux de faire des propositions dans l'intérê
 t général. Luttons ensemble pour plus de transparence\, plus de justice\, 
 plus de respect des règles et des personnes. N'hésitez pas à soutenir ouve
 rtement et concrètement les 6 élus d'opposition qui entrent dans la compos
 ition du nouveau conseil municipal.'\n&nbsp\; http://www.poussan-autrement
 .com/index.php/categories/evenement/83-reunion-publique-du-conseil-municip
 al
DTSTART:20140620T190000Z
DTEND:20140620T203000Z
LOCATION:Mairie de Poussan (Mairie\, 1 Place de la Mairie\, 34560 Poussan\,
  France)
SUMMARY:REUNION PUBLIQUE DU CONSEIL MUNICIPAL
URL:http://www.poussan-autrement.com/index.php/categories/evenement/83-reun
 ion-publique-du-conseil-municipal
END:VEVENT
END:VCALENDAR
