BEGIN:VCALENDAR
VERSION:2.0
PRODID:-//http://www.poussan-autrement.com///NONSGML kigkonsult.se iCalcreator 2.10.15//
METHOD:PUBLISH
BEGIN:VEVENT
UID:20260420T105124CEST-2979pPxzt4@http://www.poussan-autrement.com/
DTSTAMP:20260420T085124Z
DESCRIPTION:Ateliers complices (parent-enfant) le tarif est de 9 € (le binô
 me)\, de nombreux thèmes dont la mosaïque seront proposés pendant la saiso
 n estivale.\n&nbsp\;\n http://www.poussan-autrement.com/index.php/categori
 es/evenement/75-ateliers-complices-parent-enfant
DTSTART:20140723T100000Z
DTEND:20140723T121500Z
LOCATION:musée de la villa Loupian\, LOUPIAN (Musee de Site Gallo-Romain\, 
 34140 Loupian\, France)
SUMMARY:ATELIERS COMPLICES (PARENT-ENFANT) 
URL:http://www.poussan-autrement.com/index.php/categories/evenement/75-atel
 iers-complices-parent-enfant
END:VEVENT
END:VCALENDAR
