BEGIN:VCALENDAR
VERSION:2.0
PRODID:-//http://www.poussan-autrement.com///NONSGML kigkonsult.se iCalcreator 2.10.15//
METHOD:PUBLISH
BEGIN:VEVENT
UID:20260420T105114CEST-95634hMvkB@http://www.poussan-autrement.com/
DTSTAMP:20260420T085114Z
DESCRIPTION:Ce dimanche 8 juin\, venez découvrir Villeveyrac dans une ambia
 nce festive et conviviale lors de la fête du Genêt. Après avoir été cherch
 é le genêt dans la garrigue\, tout le monde peut déguster des petits gatea
 ux uniques : la soca. Fait avec du vin\, du fromage de chèvre et de la con
 fiture\, ce gâteau est fabriqué une seule fois par an par un des boulanger
 s de la commune.  Traditions mises à l'honneur ! Découvrez aussi des métie
 rs oubliés\, fileuse de laine\, maréchal ferrant\, dresseur de chiens de t
 roupeaux...et dégustez les bons fruits de saison Concerts prévus le soi et
  tout au long de la journée\, les visiteurs peuvent découvrir les différen
 ts stands :\nEN SAVOIR PLUS...\n http://www.poussan-autrement.com/index.ph
 p/categories/evenement/65-fete-du-genet
DTSTART:20140608T051600Z
DTEND:20140608T071600Z
LOCATION:Villeveyrac (Villeveyrac\, France)
SUMMARY:FÊTE DU GENÊT
URL:http://www.poussan-autrement.com/index.php/categories/evenement/65-fete
 -du-genet
END:VEVENT
END:VCALENDAR
