BEGIN:VCALENDAR
VERSION:2.0
PRODID:-//http://www.poussan-autrement.com///NONSGML kigkonsult.se iCalcreator 2.10.15//
METHOD:PUBLISH
BEGIN:VEVENT
UID:20260422T113051CEST-81953IlnGV@http://www.poussan-autrement.com/
DTSTAMP:20260422T093051Z
DESCRIPTION:Claire ATON\nvous convient au vernissage de l’exposition de\nve
 ndredi 23 mai 2014 à 18h30au Foyer des Campagnes de Poussan\n&nbsp\;\n htt
 p://www.poussan-autrement.com/index.php/categories/evenement/38-vernissage
 -exposition-aton
DTSTART:20140523T183000Z
DTEND:20140523T203000Z
LOCATION:FOYER DES CAMPAGNES (10 Boulevard René Tulet\, 34560 Poussan\, Fra
 nce)
SUMMARY:VERNISSAGE EXPOSITION ATON
URL:http://www.poussan-autrement.com/index.php/categories/evenement/38-vern
 issage-exposition-aton
END:VEVENT
END:VCALENDAR
