BEGIN:VCALENDAR
VERSION:2.0
PRODID:-//http://www.poussan-autrement.com///NONSGML kigkonsult.se iCalcreator 2.10.15//
METHOD:PUBLISH
BEGIN:VEVENT
UID:20260424T125813CEST-2630ZfWiGV@http://www.poussan-autrement.com/
DTSTAMP:20260424T105813Z
DESCRIPTION:18ème édition . Festival de musiques du monde FIEST'A SETE\nEn 
 partenariat avec le Comité des Fêtes le Carré d'As et la Mairie de Poussan
 \nConcerts gratuits\n&nbsp\;\n\nLEUR SITE INTERNET\n&nbsp\;\n&nbsp\; http:
 //www.poussan-autrement.com/index.php/categories/evenement/36-zoreol-debad
 emba
DTSTART:20140731T210000Z
DTEND:20140731T230000Z
LOCATION:Chemin de la cave coopérative\, 34560 POUSSAN (133 Chemin de la Co
 opérative\, 34560 Poussan\, France)
SUMMARY:ZOREOL / DEBADEMBA
URL:http://www.poussan-autrement.com/index.php/categories/evenement/36-zore
 ol-debademba
END:VEVENT
END:VCALENDAR
