BEGIN:VCALENDAR
VERSION:2.0
PRODID:-//http://www.poussan-autrement.com///NONSGML kigkonsult.se iCalcreator 2.10.15//
METHOD:PUBLISH
BEGIN:VEVENT
UID:20260422T112301CEST-1156faOXFd@http://www.poussan-autrement.com/
DTSTAMP:20260422T092301Z
DESCRIPTION:\n\n http://www.poussan-autrement.com/index.php/categories/even
 ement/259-journees-romaines
DTSTART:20160730T140000Z
DTEND:20160731T183000Z
LOCATION:musée de la villa Loupian\, LOUPIAN (Musee de Site Gallo-Romain\, 
 34140 Loupian\, France)
SUMMARY:JOURNÉES ROMAINES
URL:http://www.poussan-autrement.com/index.php/categories/evenement/259-jou
 rnees-romaines
END:VEVENT
END:VCALENDAR
