BEGIN:VCALENDAR
VERSION:2.0
PRODID:-//http://www.poussan-autrement.com///NONSGML kigkonsult.se iCalcreator 2.10.15//
METHOD:PUBLISH
BEGIN:VEVENT
UID:20260420T145510CEST-3713DNZ3ZC@http://www.poussan-autrement.com/
DTSTAMP:20260420T125510Z
DESCRIPTION:Samedi 18 juin à 18h\, chapelle Saint-Pierre\, présentation du 
 livre réalisé par le CRPM sur la vie à Montbazin au XXème siècle.\n\n http
 ://www.poussan-autrement.com/index.php/categories/evenement/256-memoire-de
 -montbazin
DTSTART:20160618T180000Z
DTEND:20160618T200000Z
LOCATION:chapelle Saint-Pierre de MONTBAZIN (18 Rue de la Carrierasse\, 345
 60 Montbazin\, France)
SUMMARY:Mémoire de Montbazin
URL:http://www.poussan-autrement.com/index.php/categories/evenement/256-mem
 oire-de-montbazin
END:VEVENT
END:VCALENDAR
