BEGIN:VCALENDAR
VERSION:2.0
PRODID:-//http://www.poussan-autrement.com///NONSGML kigkonsult.se iCalcreator 2.10.15//
METHOD:PUBLISH
BEGIN:VEVENT
UID:20260420T105251CEST-3115Tif5VJ@http://www.poussan-autrement.com/
DTSTAMP:20260420T085251Z
DESCRIPTION:Réunion publique du Conseil Municipal de PoussanMercredi 25 mai
  2016 à 19h à l'Hôtel de Ville\nORDRE DU JOUR\n1 - FINANCES - Budget 2015 
 - Compte administratif BP2 - FINANCES - Budget 2015 - Compte administratif
  BA SEJ3 - FINANCES - Budget 2015 - Compte de gestion BP4 - FINANCES - Bud
 get 2015 - Compte de gestion BA SEJ5 - FINANCES - Exercices antérieurs - A
 dmissions en non-valeur (délibération reportée)6 - ÉCLAIRAGE PUBLIC - Dema
 ndes de subvention7 - CAVE COOPERATIVE - Appel à projet - Choix du candida
 t8 - ACCESSIBILITE - Bâtiments communaux - Validation de l'agenda d'access
 ibilité programmé (Ad'AP)9 - FUNERAIRE - Cimetière- Modification des repri
 ses de concession10 - ENVIRONNEMENT - Domaine forestier - Nouvelle assiett
 e foncière11 - URBANISME- PUP - Chemin de la Mouline- Modification12 - SEC
 URITE PUBLIQUE - Procès-verbaux électroniques - Demande de subvention13 - 
 ENFANCE JEUNESSE - Stages de voile - Convention avec la ville de Sète14 - 
 FINANCES - Nouveaux montants concernant les marchés de groupements de comm
 ande CCNBT\n&nbsp\;\n&nbsp\;\n&nbsp\;\n\n\n\n\n\n\n\n&nbsp\; http://www.po
 ussan-autrement.com/index.php/categories/evenement/251-reunion-publique-du
 -conseil-municipal
DTSTART:20160525T190000Z
DTEND:20160525T213000Z
LOCATION:Mairie de Poussan (Mairie\, 1 Place de la Mairie\, 34560 Poussan\,
  France)
SUMMARY:RÉUNION PUBLIQUE DU CONSEIL MUNICIPAL
URL:http://www.poussan-autrement.com/index.php/categories/evenement/251-reu
 nion-publique-du-conseil-municipal
END:VEVENT
END:VCALENDAR
