BEGIN:VCALENDAR
VERSION:2.0
PRODID:-//http://www.poussan-autrement.com///NONSGML kigkonsult.se iCalcreator 2.10.15//
METHOD:PUBLISH
BEGIN:VEVENT
UID:20260422T124409CEST-25293uadzT@http://www.poussan-autrement.com/
DTSTAMP:20260422T104409Z
DESCRIPTION:ASSEMBLÉE GÉNÉRALE POUSSAN AUTREMENT\n&nbsp\;\nSamedi 13 févrie
 r à 10h00\nà la salle Jean THERON http://www.poussan-autrement.com/index.p
 hp/categories/evenement/242-assemblee-generale-poussan-autrement
DTSTART:20160213T100000Z
DTEND:20160213T130000Z
LOCATION: salle Jean Théron (face au FOYER DES CAMPAGNES) (6 Boulevard René
  Tulet\, 34560 Poussan\, France)
SUMMARY:ASSEMBLÉE GÉNÉRALE POUSSAN AUTREMENT
URL:http://www.poussan-autrement.com/index.php/categories/evenement/242-ass
 emblee-generale-poussan-autrement
END:VEVENT
END:VCALENDAR
