BEGIN:VCALENDAR
VERSION:2.0
PRODID:-//http://www.poussan-autrement.com///NONSGML kigkonsult.se iCalcreator 2.10.15//
METHOD:PUBLISH
BEGIN:VEVENT
UID:20260420T150401CEST-23209HiP55@http://www.poussan-autrement.com/
DTSTAMP:20260420T130401Z
DESCRIPTION:&nbsp\;\n http://www.poussan-autrement.com/index.php/categories
 /evenement/205-un-souffle-d-espoir
DTSTART:20150726T090000Z
DTEND:20150726T210000Z
LOCATION:Place roger theron Sète (Sète\, France)
SUMMARY:UN SOUFFLE D'ESPOIR
URL:http://www.poussan-autrement.com/index.php/categories/evenement/205-un-
 souffle-d-espoir
END:VEVENT
END:VCALENDAR
