BEGIN:VCALENDAR
VERSION:2.0
PRODID:-//http://www.poussan-autrement.com///NONSGML kigkonsult.se iCalcreator 2.10.15//
METHOD:PUBLISH
BEGIN:VEVENT
UID:20260420T112914CEST-6715O7zVmu@http://www.poussan-autrement.com/
DTSTAMP:20260420T092914Z
DESCRIPTION:Réunion publique du Conseil Municipal de Poussan\n&nbsp\;\nLund
 i 01 juin 2015 à 19 heures\n&nbsp\;\nORDRE DU JOUR\n1.&nbsp\;&nbsp\;&nbsp\
 ;&nbsp\; URBANISME : Désaffectation chemin communal - lancement de la proc
 édure d'enquête publique\n2.&nbsp\;&nbsp\;&nbsp\;&nbsp\; URBANISME : Désaf
 fectation chemins ruraux - lancement de la procédure d'enquête publique\n3
 .&nbsp\;&nbsp\;&nbsp\;&nbsp\; TRAVAUX - Demande de subvention travaux du g
 ymnase\n4.&nbsp\;&nbsp\;&nbsp\;&nbsp\; FINANCES - Fiscalité - T. C. F. E. 
 modification\n5.&nbsp\;&nbsp\;&nbsp\; ENFANCE JEUNESSE : Terrain de la gro
 tte - convention d'utilisation\n&nbsp\;\n\n&nbsp\;\n\n&nbsp\;\n&nbsp\;\n&n
 bsp\;\n&nbsp\; http://www.poussan-autrement.com/index.php/categories/evene
 ment/196-reunion-publique-du-conseil-municipal
DTSTART:20150601T190000Z
DTEND:20150601T213000Z
LOCATION:Mairie de Poussan (Mairie\, 1 Place de la Mairie\, 34560 Poussan\,
  France)
SUMMARY:REUNION PUBLIQUE DU CONSEIL MUNICIPAL
URL:http://www.poussan-autrement.com/index.php/categories/evenement/196-reu
 nion-publique-du-conseil-municipal
END:VEVENT
END:VCALENDAR
