BEGIN:VCALENDAR
VERSION:2.0
PRODID:-//http://www.poussan-autrement.com///NONSGML kigkonsult.se iCalcreator 2.10.15//
METHOD:PUBLISH
BEGIN:VEVENT
UID:20260422T114108CEST-09956ZgFMF@http://www.poussan-autrement.com/
DTSTAMP:20260422T094108Z
DESCRIPTION:&nbsp\;\n{article 378}{title} {text} {/article}\n&nbsp\; &nbsp\
 ;\n&nbsp\; http://www.poussan-autrement.com/index.php/categories/evenement
 /195-assemblee-generale-de-poussan-autrement
DTSTART:20150530T100000Z
DTEND:20150530T120000Z
LOCATION:Salle de la crèche (Mairie\, 1 Place de la Mairie\, 34560 Poussan\
 , France)
SUMMARY:ASSEMBLEE GENERALE DE POUSSAN AUTREMENT
URL:http://www.poussan-autrement.com/index.php/categories/evenement/195-ass
 emblee-generale-de-poussan-autrement
END:VEVENT
END:VCALENDAR
