BEGIN:VCALENDAR
VERSION:2.0
PRODID:-//http://www.poussan-autrement.com///NONSGML kigkonsult.se iCalcreator 2.10.15//
METHOD:PUBLISH
BEGIN:VEVENT
UID:20260422T112626CEST-58756ahJem@http://www.poussan-autrement.com/
DTSTAMP:20260422T092626Z
DESCRIPTION: http://www.poussan-autrement.com/index.php/categories/evenemen
 t/193-les-assiettes-gourmandes-des-pouss-en-faim
DTSTART:20150526T190000Z
DTEND:20150526T200000Z
LOCATION:LES HALLES\, 34560 POUSSAN (LES HALLES\, 34560 POUSSAN)
SUMMARY:LES ASSIETTES GOURMANDES DES POUSS’EN FAIM
URL:http://www.poussan-autrement.com/index.php/categories/evenement/193-les
 -assiettes-gourmandes-des-pouss-en-faim
END:VEVENT
END:VCALENDAR
