BEGIN:VCALENDAR
VERSION:2.0
PRODID:-//http://www.poussan-autrement.com///NONSGML kigkonsult.se iCalcreator 2.10.15//
METHOD:PUBLISH
BEGIN:VEVENT
UID:20260420T104852CEST-6009NcTK2P@http://www.poussan-autrement.com/
DTSTAMP:20260420T084852Z
DESCRIPTION:CHORALE CORO AFICION\nDE BALARUC LE VIEUX\n&nbsp\;\n http://www
 .poussan-autrement.com/index.php/categories/evenement/192-chorale-coro-afi
 cion
DTSTART:20150522T180000Z
DTEND:20150522T200000Z
LOCATION:EGLISE SAINT PIERRE de POUSSAN (5 Rue de l'Église\, 34560 Poussan\
 , France)
SUMMARY:CHORALE CORO AFICION
URL:http://www.poussan-autrement.com/index.php/categories/evenement/192-cho
 rale-coro-aficion
END:VEVENT
END:VCALENDAR
