BEGIN:VCALENDAR
VERSION:2.0
PRODID:-//http://www.poussan-autrement.com///NONSGML kigkonsult.se iCalcreator 2.10.15//
METHOD:PUBLISH
BEGIN:VEVENT
UID:20260420T104811CEST-2068UjtZkt@http://www.poussan-autrement.com/
DTSTAMP:20260420T084811Z
DESCRIPTION:&nbsp\;\nSamedi 23 Mai à COURNONSEC à partir de 21h00 au restau
 rant O'Cournons\, (face à l’Inter-marché) \nune soirée Rock n'roll est pré
 vu pour débutants moyens et confirmés. Si vous ne faite rien ce soir-là\, 
 venez nous rejoindre pour passer une soirée conviviale ensemble.\n&nbsp\;N
 'hésitez pas à inviter vos amis qui seront les bienvenus. \nPossibilité de
  se restaurer avant le début de la soirée et si vous ne prenez pas de rest
 auration\, une participation de 8€ (1 boisson offerte) vous sera demandée.
  \nAu plaisir de se rencontrer\n http://www.poussan-autrement.com/index.ph
 p/categories/evenement/191-soiree-rock-n-roll
DTSTART:20150523T210000Z
DTEND:20150523T235900Z
LOCATION:COURNONSEC (Cournonsec\, France)
SUMMARY:SOIREE ROCK N'ROLL 
URL:http://www.poussan-autrement.com/index.php/categories/evenement/191-soi
 ree-rock-n-roll
END:VEVENT
END:VCALENDAR
