BEGIN:VCALENDAR
VERSION:2.0
PRODID:-//http://www.poussan-autrement.com///NONSGML kigkonsult.se iCalcreator 2.10.15//
METHOD:PUBLISH
BEGIN:VEVENT
UID:20260420T105256CEST-8855zzL7Bo@http://www.poussan-autrement.com/
DTSTAMP:20260420T085256Z
DESCRIPTION:Réunion publique du Conseil Municipal de Poussan\n&nbsp\;\nLund
 i 18 Mai 2015 à 19 heures\n&nbsp\;\nORDRE DU JOUR\n1. Finances : budget pr
 incipal 2014 — vote du compte administratif\n2. Finances : budget principa
 l 2014 — vote du compte de gestion\n3. Domaine public : marché hebdomadair
 e — modification\n4. Domaine public : foire bio — instauration\n5. Domaine
  public : foire bio — tarifs\n6. Sécurité publique : Police municipale — f
 ourrière automobile\n&nbsp\;\n\n&nbsp\;\n\n&nbsp\;\n&nbsp\;\n&nbsp\;\n&nbs
 p\; http://www.poussan-autrement.com/index.php/categories/evenement/190-re
 union-publique-du-conseil-municipal
DTSTART:20150518T190000Z
DTEND:20150518T213000Z
LOCATION:Mairie de Poussan (Mairie\, 1 Place de la Mairie\, 34560 Poussan\,
  France)
SUMMARY:REUNION PUBLIQUE DU CONSEIL MUNICIPAL
URL:http://www.poussan-autrement.com/index.php/categories/evenement/190-reu
 nion-publique-du-conseil-municipal
END:VEVENT
END:VCALENDAR
