BEGIN:VCALENDAR
VERSION:2.0
PRODID:-//http://www.poussan-autrement.com///NONSGML kigkonsult.se iCalcreator 2.10.15//
METHOD:PUBLISH
BEGIN:VEVENT
UID:20260422T131036CEST-6075Pe3G6k@http://www.poussan-autrement.com/
DTSTAMP:20260422T111036Z
DESCRIPTION:Le 1er mai 2015\, LA CFDT de Sète/Bassin de Thau\, L'UNION DEPA
 RTEMENTALE CFDT34\n&nbsp\;\n&nbsp\;\n\n&nbsp\;organisent à :\n\n\n11h à l'
 UL de Sète\, rue du Maire Aussenac\n\n\nInauguration d'une stèle\n\npour l
 es victimes du travail&nbsp\;\n-------------------------------------------
 \n\nsuivi d'un apéritif http://www.poussan-autrement.com/index.php/categor
 ies/evenement/185-inauguration-d-une-stele-pour-les-victimes-du-travail
DTSTART:20150501T110000Z
DTEND:20150501T130000Z
LOCATION:rue du Maire Aussenac\, Sète (Rue du Maire Aussenac\, 34200 Sète\,
  France)
SUMMARY:Inauguration d'une stèle  pour les victimes du travail
URL:http://www.poussan-autrement.com/index.php/categories/evenement/185-ina
 uguration-d-une-stele-pour-les-victimes-du-travail
END:VEVENT
END:VCALENDAR
