BEGIN:VCALENDAR
VERSION:2.0
PRODID:-//http://www.poussan-autrement.com///NONSGML kigkonsult.se iCalcreator 2.10.15//
METHOD:PUBLISH
BEGIN:VEVENT
UID:20260420T105257CEST-9542upgHVn@http://www.poussan-autrement.com/
DTSTAMP:20260420T085257Z
DESCRIPTION:\n&nbsp\;&nbsp\;&nbsp\;&nbsp\; Dans le cadre de la concertation
  sur le projet de la ligne nouvelle Montpellier-Perpignan\, dix réunions p
 ubliques vont avoir lieu en avril sur notre territoire.&nbsp\;&nbsp\;&nbsp
 \; \nPOUSSAN LE 27 avril 2015AU FOYER DES CAMPAGNES\n\n&nbsp\;\n'L'Accent 
 du Sud' n°37 mars 2015\n http://www.poussan-autrement.com/index.php/catego
 ries/evenement/183-la-ligne-nouvelle-montpellier-perpignan
DTSTART;VALUE=DATE:20150427
LOCATION:FOYER DES CAMPAGNES (10 Boulevard René Tulet\, 34560 Poussan\, Fra
 nce)
SUMMARY:La ligne nouvelle Montpellier-Perpignan
URL:http://www.poussan-autrement.com/index.php/categories/evenement/183-la-
 ligne-nouvelle-montpellier-perpignan
END:VEVENT
END:VCALENDAR
