BEGIN:VCALENDAR
VERSION:2.0
PRODID:-//http://www.poussan-autrement.com///NONSGML kigkonsult.se iCalcreator 2.10.15//
METHOD:PUBLISH
BEGIN:VEVENT
UID:20260420T105252CEST-9051ruBwlX@http://www.poussan-autrement.com/
DTSTAMP:20260420T085252Z
DESCRIPTION:Cinéma famille : à&nbsp\;vos pop-corn&nbsp\;!\nPour ceux qui pr
 éfèrent rester au chaud\, le Cinémistral de Frontignan prévoit des project
 ions à destination des enfants\, dont un&nbsp\;ciné-conte\, Le petit monde
  de Léo\, alliant littérature jeunesse et cinéma.\n http://www.poussan-aut
 rement.com/index.php/categories/evenement/148-cine-pour-les-p-tits-et-les-
 grands
DTSTART;VALUE=DATE:20150206
LOCATION:CinéMistral a Frontignan la Peyrade (Avenue Frédéric Mistral\, 341
 10 Frontignan\, France)
SUMMARY:Ciné pour les p'tits et les grands
URL:http://www.poussan-autrement.com/index.php/categories/evenement/148-cin
 e-pour-les-p-tits-et-les-grands
END:VEVENT
END:VCALENDAR
