BEGIN:VCALENDAR
VERSION:2.0
PRODID:-//http://www.poussan-autrement.com///NONSGML kigkonsult.se iCalcreator 2.10.15//
METHOD:PUBLISH
BEGIN:VEVENT
UID:20260422T113154CEST-9191tP2Vag@http://www.poussan-autrement.com/
DTSTAMP:20260422T093154Z
DESCRIPTION: http://www.poussan-autrement.com/index.php/categories/evenemen
 t/143-presentation-des-voeux-pour-l-annee-2015
DTSTART:20150110T113000Z
DTEND:20150110T130000Z
LOCATION: salle Jean Théron (face au FOYER DES CAMPAGNES) (6 Boulevard René
  Tulet\, 34560 Poussan\, France)
SUMMARY:Présentation des voeux pour l’année 2015
URL:http://www.poussan-autrement.com/index.php/categories/evenement/143-pre
 sentation-des-voeux-pour-l-annee-2015
END:VEVENT
END:VCALENDAR
