BEGIN:VCALENDAR
VERSION:2.0
PRODID:-//http://www.poussan-autrement.com///NONSGML kigkonsult.se iCalcreator 2.10.15//
METHOD:PUBLISH
BEGIN:VEVENT
UID:20260420T112031CEST-2737gfKR8V@http://www.poussan-autrement.com/
DTSTAMP:20260420T092031Z
DESCRIPTION:\n\n\n&nbsp\;\n\nLe mardi 11 novembre 2014\nDÉROULEMENT9h3o - M
 esse en l'Église Saint-Pierre11h - Rassemblement du cortège place de la Ma
 irie11h15 - Départ du cortègeFace au monument au morts\, allée centrale du
  cimetière :Dépôt de bouquets par les élèves des écoles sur les tombes des
  Poilus morts aux champs d'Honneur.Discoure officiels.Dépôt de la gerbe\, 
 sonnerie aux motu\, minute de silence.Appel des noms des soldats tombés au
  champ d'Honneur.Regroupement du cortège :Retour à l'Hôtel de Ville où ser
 a servi un vin d'honneur.\n&nbsp\;\n&nbsp\;\n\n\n http://www.poussan-autre
 ment.com/index.php/categories/evenement/134-anniversaire-de-l-armistice-du
 -11-novembre-1918
DTSTART:20141111T093000Z
DTEND:20141111T123000Z
LOCATION:place de la mairie\, 34560 poussan (Place de la Mairie\, 34560 Pou
 ssan\, France)
SUMMARY:ANNIVERSAIRE DE L’ARMISTICE DU 11 NOVEMBRE 1918
URL:http://www.poussan-autrement.com/index.php/categories/evenement/134-ann
 iversaire-de-l-armistice-du-11-novembre-1918
END:VEVENT
END:VCALENDAR
