BEGIN:VCALENDAR
VERSION:2.0
PRODID:-//http://www.poussan-autrement.com///NONSGML kigkonsult.se iCalcreator 2.10.15//
METHOD:PUBLISH
BEGIN:VEVENT
UID:20260422T112418CEST-6395oWV9XK@http://www.poussan-autrement.com/
DTSTAMP:20260422T092418Z
DESCRIPTION:Samedi 4 Octobre 21h30\nVilleveyrac Salle Marcel Peysson\n sur 
 le site de la Cie du KIOSQUE\n&nbsp\;\n http://www.poussan-autrement.com/i
 ndex.php/categories/evenement/129-l-echo-de-la-robine-cafe-imaginaire
DTSTART:20141004T210000Z
DTEND:20141004T230000Z
LOCATION:Salle Marcel Peysson (Villeveyrac\, France)
SUMMARY:L'Echo de la Robine - Café imaginaire
URL:http://www.poussan-autrement.com/index.php/categories/evenement/129-l-e
 cho-de-la-robine-cafe-imaginaire
END:VEVENT
END:VCALENDAR
