BEGIN:VCALENDAR
VERSION:2.0
PRODID:-//http://www.poussan-autrement.com///NONSGML kigkonsult.se iCalcreator 2.10.15//
METHOD:PUBLISH
BEGIN:VEVENT
UID:20260420T105113CEST-6357UJzR5U@http://www.poussan-autrement.com/
DTSTAMP:20260420T085113Z
DESCRIPTION:Dans le cadre de sa participation au 100 km de Millau le 27 sep
 tembre 2014\, l’Entente BALARUC-LE-VIEUX POUSSAN apporte son soutien à l’a
 ssociation Génération SED http://www.generation-sed.com\n&nbsp\; Les SED (
 Syndrome d’Ehlers-Danlos) sont des affections génétiques rares et orphelin
 es. Les différents signes cliniques sont\, l’hyper mobilité et la fragilit
 é articulaire\, une grande fragilité des tissus vasculaires\, l’apparition
  spontanée d’hématomes\, une fatigabilité chronique. Les douleurs sont chr
 oniques et invalidantes et répondent mal aux antalgiques les plus forts.\n
 &nbsp\;&nbsp\; Ils seront 5 coureurs de l’Entente à se mesurer au plus pre
 stigieux des 100 km en France :\n&nbsp\;&nbsp\; -&nbsp\;&nbsp\; Pascal CHA
 VES&nbsp\; -&nbsp\;&nbsp\; Jérôme VALTIERRA&nbsp\; -&nbsp\;&nbsp\; Christi
 an PORTERO&nbsp\; -&nbsp\;&nbsp\; Laurent GIMENEZ&nbsp\; -&nbsp\;&nbsp\; F
 abien CHAVES\n&nbsp\;&nbsp\; Les coureurs porteront des tenues floquées du
  logo de l’association. Vous pourrez suivre leur course en temps réel à pa
 rtir de ce lien http://www.100kmdemillau.com/100-km-de-millau/suivi-de-la-
 course.\n&nbsp\;Devenez supporters et aidez l’association avec votre don (
 compris entre 1 et 5 €) à partir du site https://www.leetchi.com/c/millau1
 00km-associationgenerationsed (site sécurisé).&nbsp\; Notre objectif est d
 ’obtenir le plus grand nombre de supporters afin de faire connaître et pro
 mouvoir l’association. 100% des dons seront reversés à Génération SED.\nLA
  PLAQUETTE EN TELECHARGEMENTLA PLAQUETTE EN TELECHARGEMENT\n&nbsp\; &nbsp\
 ; Nous comptons sur vous\,&nbsp\; Fabien CHAVES (Président Entente)&nbsp\;
  Philippe COUSINIER (Président Génération SED)\n&nbsp\; http://www.poussan
 -autrement.com/index.php/categories/evenement/125-l-association-generation
 -sed
DTSTART;VALUE=DATE:20140927
LOCATION:Millau (Millau\, France)
SUMMARY:L’ASSOCIATION GÉNÉRATION SED
URL:http://www.poussan-autrement.com/index.php/categories/evenement/125-l-a
 ssociation-generation-sed
END:VEVENT
END:VCALENDAR
