BEGIN:VCALENDAR
VERSION:2.0
PRODID:-//http://www.poussan-autrement.com///NONSGML kigkonsult.se iCalcreator 2.10.15//
METHOD:PUBLISH
BEGIN:VEVENT
UID:20260420T150317CEST-6408jvI5aj@http://www.poussan-autrement.com/
DTSTAMP:20260420T130317Z
DESCRIPTION:&nbsp\;\nUne enquête publique aura lieu du 1er septembre au 1er
  octobre concernant un « programme de restauration et d’entretien de la vé
 gétation des rivières du bassin versant de Thau ». Ce projet est présenté 
 par la Communauté de Communes Nord du Bassin de Thau (CCNBT)\, maitre d’ou
 vrage\, et réalisé par le Syndicat Mixte du Bassin de Thau (   SMBT).\nA P
 oussan\, le commissaire enquêteur sera présent le 23 septembre de 14h à 17
 h.\n&nbsp\;\nConsulter l'avis d'enquête publique : Avis OEP CCNBT.pdf (177
  Ko)\n&nbsp\;\n http://www.poussan-autrement.com/index.php/categories/even
 ement/121-enquete-publique
DTSTART:20140923T140000Z
DTEND:20140923T170000Z
LOCATION:Mairie de Poussan (Mairie\, 1 Place de la Mairie\, 34560 Poussan\,
  France)
SUMMARY:ENQUÊTE PUBLIQUE
URL:http://www.poussan-autrement.com/index.php/categories/evenement/121-enq
 uete-publique
END:VEVENT
END:VCALENDAR
