BEGIN:VCALENDAR
VERSION:2.0
PRODID:-//http://www.poussan-autrement.com///NONSGML kigkonsult.se iCalcreator 2.10.15//
METHOD:PUBLISH
BEGIN:VEVENT
UID:20260422T123904CEST-5185E2fvr4@http://www.poussan-autrement.com/
DTSTAMP:20260422T103904Z
DESCRIPTION:Rencontre et discussion avec M. Jacques Blin.\nPassionné d’hist
 oire locale\, auteur de nombreux ouvrages sociaux sur la ville de Sète\, M
 . Blin viendra nous présenter ses dernières recherches autour des dynamiqu
 es de résistance à Sète durant la Seconde Guerre Mondiale.\nPlus d’informa
 tions : jacques.blin2.free.fr\n&nbsp\;\n&nbsp\;\n&nbsp\;\n http://www.pous
 san-autrement.com/index.php/categories/evenement/117-paroles-liberees-sur-
 sete
DTSTART:20140826T180000Z
DTEND:20140826T193000Z
LOCATION:24 Avenue Victor Hugo\, 34200 Sète\, France (24 Avenue Victor Hugo
 \, 34200 Sète\, France)
SUMMARY:PAROLES LIBEREES SUR SETE
URL:http://www.poussan-autrement.com/index.php/categories/evenement/117-par
 oles-liberees-sur-sete
END:VEVENT
END:VCALENDAR
