BEGIN:VCALENDAR
VERSION:2.0
PRODID:-//http://www.poussan-autrement.com///NONSGML kigkonsult.se iCalcreator 2.10.15//
METHOD:PUBLISH
BEGIN:VEVENT
UID:20260422T112226CEST-5760cSPgVT@http://www.poussan-autrement.com/
DTSTAMP:20260422T092226Z
DESCRIPTION:le mardi 29 juillet 2014 de 16:30 à 18:00 - Bouzigues\nVenez vi
 vre une aventure sub-aquatique et découvrir la vie dans la lagune de Thau.
  Enfilez palmes\, masque et tuba\, et suivez l’animateur  !\nVous serez pl
 ongés au cœur de ce monde singulier : vous nagerez en compagnie des poisso
 ns\, chercherez à apercevoir les animaux dissimulés dans les herbiers et l
 es algues\, observerez ceux fixés sur les rochers… et peut-être croiserez-
 vous des visiteurs inattendus  !\nRDV : Devant le Musée de l’étang de Thau
  à Bouzigues\nTarif : 10€ adultes\, 5€ enfants (moins de 12 ans \; obligat
 ion de savoir nager)\nRéservation obligatoire : OT Intercommunal CCNBT : 0
 4 67 43 93 08\nRéalisation : Club et école de plongée l’Odyssée\n\n&nbsp\;
  http://www.poussan-autrement.com/index.php/categories/evenement/112-a-vos
 -nageoires
DTSTART:20140729T163000Z
DTEND:20140729T180000Z
LOCATION:Musée de l’étang de Thau à Bouzigues (Musée de l'Etang de Thau\, Q
 uai du Port\, 34140 Bouzigues\, France)
SUMMARY:À VOS NAGEOIRES !
URL:http://www.poussan-autrement.com/index.php/categories/evenement/112-a-v
 os-nageoires
END:VEVENT
END:VCALENDAR
