BEGIN:VCALENDAR
VERSION:2.0
PRODID:-//http://www.poussan-autrement.com///NONSGML kigkonsult.se iCalcreator 2.10.15//
METHOD:PUBLISH
BEGIN:VEVENT
UID:20260422T111941CEST-5408wPAFrx@http://www.poussan-autrement.com/
DTSTAMP:20260422T091941Z
DESCRIPTION:Le jeudi 17 avril 2014 à 18h30 au musée de la villa Loupian a l
 ieu la 3ème conférence programmée en partenariat entre CCNBT\, Villa Loupi
 an\, état\, région\, département. &nbsp\;&nbsp\;&nbsp\;&nbsp\; Elle s'inti
 tule Redécouverte d'une grande abbaye languedocienne oubliée : Saint-Sauve
 ur d'Aniane dans la vallée de l'Hérault . L'intervenant est Laurent Scheid
 er \, chargé de recherches au CNRS ( laboratoire d'archéologie Médiévale M
 éditerranéenne ). http://www.poussan-autrement.com/index.php/categories/ev
 enement/1-redecouverte-d-une-grande-abbaye-languedocienne
DTSTART:20140417T184400Z
DTEND:20140417T204400Z
LOCATION:musée de la villa Loupian\, LOUPIAN (Musee de Site Gallo-Romain\, 
 34140 Loupian\, France)
SUMMARY:REDÉCOUVERTE D'UNE GRANDE ABBAYE LANGUEDOCIENNE
URL:http://www.poussan-autrement.com/index.php/categories/evenement/1-redec
 ouverte-d-une-grande-abbaye-languedocienne
END:VEVENT
END:VCALENDAR
